BEGIN:VCALENDAR
VERSION:2.0
PRODID:-//Demo E-Commerce - ECPv5.14.1//NONSGML v1.0//EN
CALSCALE:GREGORIAN
METHOD:PUBLISH
X-WR-CALNAME:Demo E-Commerce
X-ORIGINAL-URL:https://demoec.digitalgreen.com.pt
X-WR-CALDESC:Events for Demo E-Commerce
REFRESH-INTERVAL;VALUE=DURATION:PT1H
X-Robots-Tag:noindex
X-PUBLISHED-TTL:PT1H
BEGIN:VTIMEZONE
TZID:Europe/Lisbon
BEGIN:DAYLIGHT
TZOFFSETFROM:+0000
TZOFFSETTO:+0100
TZNAME:WEST
DTSTART:20240331T010000
END:DAYLIGHT
BEGIN:STANDARD
TZOFFSETFROM:+0100
TZOFFSETTO:+0000
TZNAME:WET
DTSTART:20241027T010000
END:STANDARD
END:VTIMEZONE
BEGIN:VEVENT
DTSTART;TZID=Europe/Lisbon:20240403T090000
DTEND;TZID=Europe/Lisbon:20240403T100000
DTSTAMP:20260419T214823
CREATED:20240401T161827Z
LAST-MODIFIED:20240423T164327Z
UID:17305-1712134800-1712138400@demoec.digitalgreen.com.pt
SUMMARY:Curso de teste do costinha
DESCRIPTION:
URL:https://demoec.digitalgreen.com.pt/curso-no-calendario/curso-de-teste-do-costinha/
ATTACH;FMTTYPE=image/jpeg:https://demoec.digitalgreen.com.pt/wp-content/uploads/c0.jpg
END:VEVENT
BEGIN:VEVENT
DTSTART;TZID=Europe/Lisbon:20240403T090000
DTEND;TZID=Europe/Lisbon:20240403T100000
DTSTAMP:20260419T214823
CREATED:20240405T155248Z
LAST-MODIFIED:20240423T164325Z
UID:17308-1712134800-1712138400@demoec.digitalgreen.com.pt
SUMMARY:Curso de Teste DG v2
DESCRIPTION:
URL:https://demoec.digitalgreen.com.pt/curso-no-calendario/curso-de-teste-dg-v2/
ATTACH;FMTTYPE=image/jpeg:https://demoec.digitalgreen.com.pt/wp-content/uploads/c44.jpg
END:VEVENT
END:VCALENDAR